BEGIN:VCALENDAR
VERSION:2.0
PRODID:-//wp-events-plugin.com//7.2.3.1//EN
TZID:Europe/Berlin
X-WR-TIMEZONE:Europe/Berlin
BEGIN:VEVENT
UID:113@evelyne-furthmeier.de
DTSTART;TZID=Europe/Berlin:20260614T093000
DTEND;TZID=Europe/Berlin:20260614T124500
DTSTAMP:20260423T134914Z
URL:https://www.evelyne-furthmeier.de/veranstaltungen/halbtagesseminar-all
 e-anliegen-im-rahmen-eines-wb-moduls-2/
SUMMARY:Halbtagesseminar - alle Anliegen (im Rahmen eines WB-Moduls)
DESCRIPTION:Meine Halbtagesseminare finden jeweils an einem Vormittag eines
  Weiterbildungsmoduls statt und sind offen für jeden Interessierten und f
 ür jedes Anliegen. Beginn: 9:30 Uhr / Ende: 12:45 Uhr\n\nKostenfreie Park
 plätze stehen auf dem Hotelparkplatz und in der Hoteltiefgarage zur Verf
 ügung.\n\nVom Hauptbahnhof Regensburg zum Hotel ibis City\, Furtmayrstr. 
 1\, sind es 5 Gehminuten.\n\nSie können vor Ort bar bezahlen oder den Sem
 inarbetrag eine Woche vor Seminarbeginn überweisen.
LOCATION:93053 Regensburg Hotel ibis City\, Furtmayrstr. 1\, Furtmayrstr. 1
 \, Regensburg\, 93053\, Deutschland
GEO:49.018931;12.087203
X-APPLE-STRUCTURED-LOCATION;VALUE=URI;X-ADDRESS=Furtmayrstr. 1\, Regensburg
 \, 93053\, Deutschland;X-APPLE-RADIUS=100;X-TITLE=93053 Regensburg Hotel i
 bis City\, Furtmayrstr. 1:geo:49.018931,12.087203
END:VEVENT
BEGIN:VTIMEZONE
TZID:Europe/Berlin
X-LIC-LOCATION:Europe/Berlin
BEGIN:DAYLIGHT
DTSTART:20260329T030000
TZOFFSETFROM:+0100
TZOFFSETTO:+0200
TZNAME:CEST
END:DAYLIGHT
END:VTIMEZONE
END:VCALENDAR