BEGIN:VCALENDAR
VERSION:2.0
PRODID:-//wp-events-plugin.com//7.2.3.1//EN
TZID:Europe/Berlin
X-WR-TIMEZONE:Europe/Berlin
BEGIN:VEVENT
UID:101@evelyne-furthmeier.de
DTSTART;TZID=Europe/Berlin:20260711T093000
DTEND;TZID=Europe/Berlin:20260711T170000
DTSTAMP:20250912T082502Z
URL:https://www.evelyne-furthmeier.de/veranstaltungen/regensburg-tagessemi
 nar-mit-familien-und-systemaufstellungen-alle-anliegen-20/
SUMMARY:Regensburg: Tagesseminar mit Familien- und Systemaufstellungen - al
 le Anliegen
DESCRIPTION:Das Tagesseminar findet in Regensburg im Hotel ibis City\, Furt
 mayrstr. 1 statt.\n\nKostenfreie Parkplätze stehen in der Hoteltiefgarage
  und am Hotelparkdeck zur Verfügung. Die Einfahrt in die Tiefgarage und z
 um Parkdeck ist über die Gemeinerstraße.\n\nDer Weg vom Hauptbahnhof Reg
 ensburg zum Hotel beträgt in etwa 5 Gehminuten.
LOCATION:93053 Regensburg Hotel ibis City\, Furtmayrstr. 1\, Furtmayrstr. 1
 \, Regensburg\, 93053\, Deutschland
GEO:49.018931;12.087203
X-APPLE-STRUCTURED-LOCATION;VALUE=URI;X-ADDRESS=Furtmayrstr. 1\, Regensburg
 \, 93053\, Deutschland;X-APPLE-RADIUS=100;X-TITLE=93053 Regensburg Hotel i
 bis City\, Furtmayrstr. 1:geo:49.018931,12.087203
END:VEVENT
BEGIN:VTIMEZONE
TZID:Europe/Berlin
X-LIC-LOCATION:Europe/Berlin
BEGIN:DAYLIGHT
DTSTART:20260329T030000
TZOFFSETFROM:+0100
TZOFFSETTO:+0200
TZNAME:CEST
END:DAYLIGHT
END:VTIMEZONE
END:VCALENDAR