BEGIN:VCALENDAR
VERSION:2.0
PRODID:-//wp-events-plugin.com//7.2.3.1//EN
TZID:Europe/Berlin
X-WR-TIMEZONE:Europe/Berlin
BEGIN:VEVENT
UID:111@evelyne-furthmeier.de
DTSTART;TZID=Europe/Berlin:20261017T093000
DTEND;TZID=Europe/Berlin:20261018T163000
DTSTAMP:20251202T090231Z
URL:https://www.evelyne-furthmeier.de/veranstaltungen/regensburg-wochenend
 seminar-alle-anliegen-und-trauma-unterbrochene-hinbewegung/
SUMMARY:Regensburg: Wochenendseminar - alle Anliegen und Trauma - unterbroc
 hene Hinbewegung
DESCRIPTION:Dieses Wochenendseminar ist das 9. Modul der Weiterbildung für
  Familienaufstellungen und kann von jedem\, der interessiert ist\, auch ei
 nzeln gebucht werden.\n\nEs findet in 93053 Regensburg im Hotel ibis City 
 in der Furtmayrstr. 1 statt.\n\nKostenfreie Parkplätze stehen in der Hote
 ltiefgarage und am Hotelparkdeck zur Verfügung. Die Einfahrt in die Tiefg
 arage und zum Parkdeck ist über die Gemeinerstraße oder Zollerstr./Gemei
 nerstr. Für Übernachtungsgäste fallen Parkgebühren an. Sollten alle Ho
 telparkplätze belegt sein\, befindet sich in der Nähe ein DB-Parkplatz i
 n der Sternbergstraße.\n\nDer Weg vom Hauptbahnhof Regensburg zum Hotel i
 bis City\, Furtmayrstr.1\, beträgt in etwa 5 Gehminuten.
LOCATION:93053 Regensburg Hotel ibis City\, Furtmayrstr. 1\, Furtmayrstr. 1
 \, Regensburg\, 93053\, Deutschland
GEO:49.018931;12.087203
X-APPLE-STRUCTURED-LOCATION;VALUE=URI;X-ADDRESS=Furtmayrstr. 1\, Regensburg
 \, 93053\, Deutschland;X-APPLE-RADIUS=100;X-TITLE=93053 Regensburg Hotel i
 bis City\, Furtmayrstr. 1:geo:49.018931,12.087203
END:VEVENT
BEGIN:VTIMEZONE
TZID:Europe/Berlin
X-LIC-LOCATION:Europe/Berlin
BEGIN:DAYLIGHT
DTSTART:20260329T030000
TZOFFSETFROM:+0100
TZOFFSETTO:+0200
TZNAME:CEST
END:DAYLIGHT
END:VTIMEZONE
END:VCALENDAR