BEGIN:VCALENDAR
VERSION:2.0
PRODID:-//wp-events-plugin.com//7.2.3.1//EN
TZID:Europe/Berlin
X-WR-TIMEZONE:Europe/Berlin
BEGIN:VEVENT
UID:21@evelyne-furthmeier.de
DTSTART;TZID=Europe/Berlin:20240601T093000
DTEND;TZID=Europe/Berlin:20240601T124500
DTSTAMP:20240211T010310Z
URL:https://www.evelyne-furthmeier.de/veranstaltungen/samstagvormittag-sem
 inar-mit-familien-und-systemaufstellungen-offen-fuer-alle-anliegen-3/
SUMMARY:Regensburg: Seminar (halber Tag) mit Familien- und Systemaufstellun
 gen - alle Anliegen
DESCRIPTION:Das Seminar findet im Hotel Central (Margaretenstr.18) in Regen
 sburg statt. Der Seminarraum befindet sich im Gang links neben dem Empfang
 .\n\nKostenfreie Parkplätze stehen in der Hoteltiefgarage zur Verfügung.
  Die Einfahrt in die Tiefgarage ist nur über die Fritz-Fend-Straße mögl
 ich.\n\nDer Weg vom Hauptbahnhof Regensburg zum Hotel beträgt in etwa 5 G
 ehminuten.\n\nVeranstaltungsort: Hotel Central - Regensburg Webseite | An
 fahrt &amp\; Parken
LOCATION:Regensburg - Hotel Central\, Margaretenstraße 18\, Regensburg\, 9
 3047\, Deutschland
GEO:49.012982;12.091969
X-APPLE-STRUCTURED-LOCATION;VALUE=URI;X-ADDRESS=Margaretenstraße 18\, Rege
 nsburg\, 93047\, Deutschland;X-APPLE-RADIUS=100;X-TITLE=Regensburg - Hotel
  Central:geo:49.012982,12.091969
END:VEVENT
BEGIN:VTIMEZONE
TZID:Europe/Berlin
X-LIC-LOCATION:Europe/Berlin
BEGIN:DAYLIGHT
DTSTART:20240331T030000
TZOFFSETFROM:+0100
TZOFFSETTO:+0200
TZNAME:CEST
END:DAYLIGHT
END:VTIMEZONE
END:VCALENDAR